BEGIN:VCALENDAR
VERSION:2.0
PRODID:-//Squarespace Inc/Squarespace 6//v6//EN
BEGIN:VEVENT
UID:5c64e5b1fa0d605cefae0933@squarespace.com
DTSTAMP:20190214T035127Z
DTSTART:20190320T220000Z
DTEND:20190321T000000Z
SUMMARY:Wednesday Night Trivia
GEO:44.257706;-88.349428
LOCATION:PJ O'Reilly's\, 52 Alinga Street\, Canberra\, ACT\, 2601\, Austral
 ia
END:VEVENT
END:VCALENDAR
