BEGIN:VCALENDAR
VERSION:2.0
PRODID:-//Squarespace Inc/Squarespace 6//v6//EN
BEGIN:VEVENT
UID:5bc5e4e3f9619a0989040cfc@squarespace.com
DTSTAMP:20190213T234426Z
DTSTART:20181128T230000Z
DTEND:20181129T010000Z
SUMMARY:Wednesday Night Trivia
GEO:44.257706;-88.349428
LOCATION:PJ O'Reilly's\, 52 Alinga Street\, Canberra\, ACT\, 2601\, Austral
 ia
END:VEVENT
END:VCALENDAR
