BEGIN:VCALENDAR
VERSION:2.0
PRODID:-//Squarespace Inc/Squarespace 6//v6//EN
BEGIN:VEVENT
UID:5bc5e4ea419202fbc6d381f5@squarespace.com
DTSTAMP:20181016T131808Z
DTSTART:20181107T230000Z
DTEND:20181108T010000Z
SUMMARY:Wednesday Night Trivia
GEO:44.257706;-88.349428
LOCATION:PJ O'Reilly's\, 52 Alinga Street\, Canberra\, ACT\, 2601\, Austral
 ia
END:VEVENT
END:VCALENDAR
