BEGIN:VCALENDAR
VERSION:2.0
PRODID:-//Squarespace Inc/Squarespace 6//v6//EN
BEGIN:VEVENT
UID:5bc5d993eef1a137abbc6c37@squarespace.com
DTSTAMP:20181016T124046Z
DTSTART:20181021T000000Z
DTEND:20181021T030000Z
SUMMARY:The Advocates
GEO:-35.278474;149.128085
LOCATION:PJ O'Reilly's\, 52 Alinga Street\, Canberra\, ACT\, 2601\, Austral
 ia
END:VEVENT
END:VCALENDAR
