BEGIN:VCALENDAR
VERSION:2.0
PRODID:-//Squarespace Inc/Squarespace 6//v6//EN
BEGIN:VEVENT
UID:5bc5dc9d4785d34e27601911@squarespace.com
DTSTAMP:20181016T124349Z
DTSTART:20181026T220000Z
DTEND:20181027T010000Z
SUMMARY:Sean from H-Cee Family
END:VEVENT
END:VCALENDAR
