BEGIN:VCALENDAR
VERSION:2.0
PRODID:-//Squarespace Inc/Squarespace 6//v6//EN
BEGIN:VEVENT
UID:5bc5ddec15fcc0ad8524170d@squarespace.com
DTSTAMP:20181016T124827Z
DTSTART:20181028T000000Z
DTEND:20181028T030000Z
SUMMARY:Steve Amosa
END:VEVENT
END:VCALENDAR
