BEGIN:VCALENDAR
VERSION:2.0
PRODID:-//Squarespace Inc/Squarespace 6//v6//EN
BEGIN:VEVENT
UID:5bc5de2e7817f73d01a5cfd7@squarespace.com
DTSTAMP:20181016T125010Z
DTSTART:20181102T230000Z
DTEND:20181103T020000Z
SUMMARY:Rob Jarrah
GEO:34.471094;-117.328765
LOCATION:PJ O'Rilly's\, 52 Alinga Street\, Canberra\, ACT\, 2601\, Australi
 a
END:VEVENT
END:VCALENDAR
