BEGIN:VCALENDAR
VERSION:2.0
PRODID:-//Squarespace Inc/Squarespace 6//v6//EN
BEGIN:VEVENT
UID:5bc5de974785d34e27603322@squarespace.com
DTSTAMP:20181016T125141Z
DTSTART:20181104T000000Z
DTEND:20181104T030000Z
SUMMARY:James Bradley
GEO:44.257706;-88.349428
LOCATION:PJ O'Reilly's\, 52 Alinga Street\, Canberra\, ACT\, 2601\, Austral
 ia
END:VEVENT
END:VCALENDAR
