BEGIN:VCALENDAR
VERSION:2.0
PRODID:-//Squarespace Inc/Squarespace 6//v6//EN
BEGIN:VEVENT
UID:5aefd243562fa779ed0bd37d@squarespace.com
DTSTAMP:20181016T132157Z
DTSTART:20180511T043000Z
DTEND:20180511T053000Z
SUMMARY:Rob Jarrah
GEO:-35.278488;149.128323
LOCATION:PJ O'Reilly's\, 52 Alinga Street\, Canberra\, ACT\, 2601\, Austral
 ia
END:VEVENT
END:VCALENDAR
