BEGIN:VCALENDAR
VERSION:2.0
PRODID:-//Squarespace Inc/Squarespace 6//v6//EN
BEGIN:VEVENT
UID:5c64e237b208fc095b3cbe8a@squarespace.com
DTSTAMP:20190214T033828Z
DTSTART:20190309T003000Z
DTEND:20190309T013000Z
SUMMARY:Ryan David
GEO:-35.27824;149.127854
LOCATION:PJ O'Reilly's\, Cnr West Row and Alinga St\, Canberra\, ACT\, Aust
 ralia
END:VEVENT
END:VCALENDAR
