BEGIN:VCALENDAR
VERSION:2.0
PRODID:-//Squarespace Inc/Squarespace 6//v6//EN
BEGIN:VEVENT
UID:5c64dc2eeb393145f2fd472e@squarespace.com
DTSTAMP:20190214T033856Z
DTSTART:20190302T003000Z
DTEND:20190302T033000Z
SUMMARY:Sean from the H-Cee Family
GEO:-35.27824;149.127854
LOCATION:PJ O'Reilly's\, Cnr West Row and Alinga St\, Canberra\, ACT\, Aust
 ralia
END:VEVENT
END:VCALENDAR
