BEGIN:VCALENDAR
VERSION:2.0
PRODID:-//Squarespace Inc/Squarespace 6//v6//EN
BEGIN:VEVENT
UID:5c64e1794192024f96af60f0@squarespace.com
DTSTAMP:20190214T033343Z
DTSTART:20190303T013000Z
DTEND:20190303T043000Z
SUMMARY:James Bradley
GEO:-35.27824;149.127854
LOCATION:PJ O'Reilly's\, Cnr West Row & Alinga St\, Canberra\, ACT\, Austra
 lia
END:VEVENT
END:VCALENDAR
