BEGIN:VCALENDAR
VERSION:2.0
PRODID:-//Squarespace Inc/Squarespace 6//v6//EN
BEGIN:VEVENT
UID:5c64d37de4966b57fa68f928@squarespace.com
DTSTAMP:20190214T023431Z
DTSTART:20190224T013000Z
DTEND:20190224T043000Z
SUMMARY:Julius Dator Music
GEO:-35.27824;149.127854
LOCATION:PJ O'Reilly's\, Cnr West Row & Alinga St\, Canberra\, ACT\, Austra
 lia
END:VEVENT
END:VCALENDAR
