BEGIN:VCALENDAR
VERSION:2.0
PRODID:-//Squarespace Inc/Squarespace 6//v6//EN
BEGIN:VEVENT
UID:5c64ac48eef1a1c0843c5ce7@squarespace.com
DTSTAMP:20190215T053006Z
DTSTART:20190217T013000Z
DTEND:20190217T043000Z
SUMMARY:Julius Dator Music with Sean from H-Cee Family
GEO:-35.27824;149.127854
LOCATION:PJ O'Reilly's\, Cnr West Row & Alinga St\, Canberra\, ACT\, Austra
 lia
END:VEVENT
END:VCALENDAR
