BEGIN:VCALENDAR
VERSION:2.0
PRODID:-//Squarespace Inc/Squarespace 6//v6//EN
BEGIN:VEVENT
UID:5c665002e4966bb78a49e338@squarespace.com
DTSTAMP:20190215T053847Z
DTSTART:20190217T013000Z
DTEND:20190217T043000Z
SUMMARY:Vendulka
GEO:40.720756;-74.000761
LOCATION:PJ O'Reilly's\, Cnr West Row & Alinga St\, Canberra\, ACT\, Austra
 lia
END:VEVENT
END:VCALENDAR
