BEGIN:VCALENDAR
VERSION:2.0
PRODID:-//Squarespace Inc/Squarespace 6//v6//EN
BEGIN:VEVENT
UID:5c664f4b15fcc06d31fbc532@squarespace.com
DTSTAMP:20190215T053540Z
DTSTART:20190315T233000Z
DTEND:20190316T023000Z
SUMMARY:James Bradley
GEO:-35.27824;149.127854
LOCATION:PJ O'Reilly's\, Cnr West Row & Alinga St\, Canberra\, ACT\, Austra
 lia
END:VEVENT
END:VCALENDAR
