BEGIN:VCALENDAR
VERSION:2.0
PRODID:-//Squarespace Inc/Squarespace 6//v6//EN
BEGIN:VEVENT
UID:5c665151eb39315d87b9b92d@squarespace.com
DTSTAMP:20190215T054514Z
DTSTART:20190322T233000Z
DTEND:20190323T023000Z
SUMMARY:The Advocates
GEO:-35.27824;149.127854
LOCATION:PJ O'Reilly's\, Cnr West Row & Alinga St\, Canberra\, ACT\, Austra
 lia
END:VEVENT
END:VCALENDAR
