BEGIN:VCALENDAR
VERSION:2.0
PRODID:-//Squarespace Inc/Squarespace 6//v6//EN
BEGIN:VEVENT
UID:5c6652ab24a694c949518244@squarespace.com
DTSTAMP:20190221T052059Z
DTSTART:20190310T003000Z
DTEND:20190310T033000Z
SUMMARY:H-Cee Family Duo
GEO:40.720756;-74.000761
LOCATION:PJ O'Reilly's\, Cnr West Row & Alinga St\, Canberra\, ACT\, Austra
 lia
END:VEVENT
END:VCALENDAR
