BEGIN:VCALENDAR
VERSION:2.0
PRODID:-//Squarespace Inc/Squarespace 6//v6//EN
BEGIN:VEVENT
UID:5c6e356f24a69461106f0bdf@squarespace.com
DTSTAMP:20190221T053308Z
DTSTART:20190329T113000Z
DTEND:20190329T143000Z
SUMMARY:Sean from the H-Cee Family
GEO:-35.27824;149.127854
LOCATION:PJ O'Reilly's\, Cnr West Row & Alinga St\, Canberra\, ACT\, Austra
 lia
END:VEVENT
END:VCALENDAR
