BEGIN:VCALENDAR
VERSION:2.0
PRODID:-//Squarespace Inc/Squarespace 6//v6//EN
BEGIN:VEVENT
UID:5c64e3ff15fcc0fa0581dc60@squarespace.com
DTSTAMP:20190220T235637Z
DTSTART:20190317T023000Z
DTEND:20190317T053000Z
SUMMARY:Full H-Cee Family Band
GEO:-35.27824;149.127854
LOCATION:PJ O'Reilly's\, Cnr West Row and Alinga St\, Canberra\, ACT\, Aust
 ralia
END:VEVENT
END:VCALENDAR
