BEGIN:VCALENDAR
VERSION:2.0
PRODID:-//Squarespace Inc/Squarespace 6//v6//EN
BEGIN:VEVENT
UID:5e2684899b35240322b2d9eb@squarespace.com
DTSTAMP:20200121T045721Z
DTSTART:20200129T230000Z
DTEND:20200130T003000Z
SUMMARY:Wednesday Night Trivia
GEO:44.257706;-88.349428
LOCATION:PJ O'Reilly's\, 52 Alinga Street\, Canberra\, ACT\, 2601\, Austral
 ia
END:VEVENT
END:VCALENDAR
