BEGIN:VCALENDAR
VERSION:2.0
PRODID:-//Squarespace Inc/Squarespace 6//v6//EN
BEGIN:VEVENT
UID:5e26866a29859622a95856f7@squarespace.com
DTSTAMP:20200121T050943Z
DTSTART:20200201T190000Z
DTEND:20200201T230000Z
SUMMARY:DJ Tommy Gunnz + 150 Free Chicken Wings
GEO:-35.278474;149.128085
LOCATION:PJ O'Reilly's\, 52 Alinga Street\, Canberra\, ACT\, 2601\, Austral
 ia
END:VEVENT
END:VCALENDAR
