BEGIN:VCALENDAR
VERSION:2.0
PRODID:-//Squarespace Inc/Squarespace 6//v6//EN
BEGIN:VEVENT
UID:5e2684f0166a41157cbbb7c1@squarespace.com
DTSTAMP:20200121T045849Z
DTSTART:20200125T020000Z
DTEND:20200125T045900Z
SUMMARY:H-Cee Family: The Full Band
GEO:-35.278474;149.128085
LOCATION:PJ O'Reilly's\, 52 Alinga Street\, Canberra\, ACT\, 2601\, Austral
 ia
END:VEVENT
END:VCALENDAR
