BEGIN:VCALENDAR
VERSION:2.0
PRODID:-//Squarespace Inc/Squarespace 6//v6//EN
BEGIN:VEVENT
UID:5e268516377991675512f629@squarespace.com
DTSTAMP:20200121T050222Z
DTSTART:20200126T013000Z
DTEND:20200126T043000Z
SUMMARY:Ice Tea Duo
GEO:-35.278474;149.128085
LOCATION:PJ O'Reily's\, 52 Alinga Street\, Canberra\, ACT\, 2601\, Australi
 a
END:VEVENT
END:VCALENDAR
