BEGIN:VCALENDAR
VERSION:2.0
PRODID:-//Squarespace Inc/Squarespace 6//v6//EN
BEGIN:VEVENT
UID:5e2672d32509ff68a5d26269@squarespace.com
DTSTAMP:20200121T045132Z
DTSTART:20200125T190000Z
DTEND:20200125T233000Z
SUMMARY:PJ's Top 25 of the Hottest 100 Contest
GEO:-35.278474;149.128085
LOCATION:PJ O'Reilly's\, 52 Alinga Street\, Canberra\, ACT\, 2601\, Austral
 ia
END:VEVENT
END:VCALENDAR
