BEGIN:VCALENDAR
VERSION:2.0
PRODID:-//Squarespace Inc/Squarespace 6//v6//EN
BEGIN:VEVENT
UID:5e268fa7a29f9d6b4e6c4780@squarespace.com
DTSTAMP:20200218T233733Z
DTSTART:20200223T013000Z
DTEND:20200223T043000Z
SUMMARY:Julius Dator Music Duo
GEO:-35.278474;149.128085
LOCATION:PJ O'Reilly's\, 52 Alinga Street\, Canberra\, ACT\, 2601\, Austral
 ia
END:VEVENT
END:VCALENDAR
