BEGIN:VCALENDAR
VERSION:2.0
PRODID:-//Squarespace Inc/Squarespace 6//v6//EN
BEGIN:VEVENT
UID:5e2690a2a29f9d6b4e6c6635@squarespace.com
DTSTAMP:20200121T054921Z
DTSTART:20200222T020000Z
DTEND:20200222T045900Z
SUMMARY:Plump
GEO:-35.278474;149.128085
LOCATION:PJ O'Reilly's\, 52 Alinga Street\, Canberra\, ACT\, 2601\, Austral
 ia
END:VEVENT
END:VCALENDAR
