BEGIN:VCALENDAR
VERSION:2.0
PRODID:-//Squarespace Inc/Squarespace 6//v6//EN
BEGIN:VEVENT
UID:5e268edd6570d54754240874@squarespace.com
DTSTAMP:20200121T054144Z
DTSTART:20200208T020000Z
DTEND:20200208T045900Z
SUMMARY:H-Cee Family: The Full Band
GEO:-35.278474;149.128085
LOCATION:PJ O'Reilly's\, 52 Alinga Street\, Canberra\, ACT\, 2601\, Austral
 ia
END:VEVENT
END:VCALENDAR
